BEGIN:VCALENDAR
VERSION:2.0
PRODID:-//La Boutique du Carnaval - ECPv6.15.20//NONSGML v1.0//EN
CALSCALE:GREGORIAN
METHOD:PUBLISH
X-WR-CALNAME:La Boutique du Carnaval
X-ORIGINAL-URL:https://www.laboutiqueducarnaval.com
X-WR-CALDESC:Évènements pour La Boutique du Carnaval
REFRESH-INTERVAL;VALUE=DURATION:PT1H
X-Robots-Tag:noindex
X-PUBLISHED-TTL:PT1H
BEGIN:VTIMEZONE
TZID:America/Guadeloupe
BEGIN:STANDARD
TZOFFSETFROM:-0400
TZOFFSETTO:-0400
TZNAME:AST
DTSTART:20250101T000000
END:STANDARD
END:VTIMEZONE
BEGIN:VEVENT
DTSTART;TZID=America/Guadeloupe:20260215T120000
DTEND;TZID=America/Guadeloupe:20260215T233000
DTSTAMP:20260420T030413
CREATED:20260121T034448Z
LAST-MODIFIED:20260211T173939Z
UID:59333-1771156800-1771198200@www.laboutiqueducarnaval.com
SUMMARY:Dimanche Gras • Pointe-à-Pitre
DESCRIPTION:Organisée par le GCCRP\, la Grande Parade du Dimanche Gras s’impose comme l’un des temps forts incontournables qui marquent le point culminant du carnaval des îles de Guadeloupe. \nDimanche 15 Février 2026\, dès 12h\, Pointe-à-Pitre vibrera au rythme des groupes carnavalesques pour un grand moment de spectacle\, de créativité et de ferveur populaire\, à célébrer en famille\, entre amis ou entre passionnés de carnaval. \nPour vivre pleinement le show\, optez pour les pass gradins. Vous serez installés au cœur de l’espace concours situé au Quai LEFEBVRE\, avec une vue privilégiée sur le passage des groupes et l’intensité des performances carnavalesques\, pour ne rien manquer de ce moment d’exception. \nCOMMANDE TES TICKETS ICI !
URL:https://www.laboutiqueducarnaval.com/evenement/dimanche-gras-pointe-a-pitre/
LOCATION:Pointe-à-Pitre\, Guadeloupe
CATEGORIES:Pointe-à-Pitre
ATTACH;FMTTYPE=image/jpeg:https://www.laboutiqueducarnaval.com/wp-content/uploads/2026/01/Dimanche-Gras.jpg
END:VEVENT
BEGIN:VEVENT
DTSTART;TZID=America/Guadeloupe:20260214T070000
DTEND;TZID=America/Guadeloupe:20260214T120000
DTSTAMP:20260420T030413
CREATED:20251202T143353Z
LAST-MODIFIED:20260102T185251Z
UID:58002-1771052400-1771070400@www.laboutiqueducarnaval.com
SUMMARY:Maquillage pour le Mas Maten
DESCRIPTION:Samedi 14 Février aura lieu le Mas Kongo Karayib plus communément appelé Mas Maten. Organisé par le Point d’Interrogation et ses partenaires ce rendez-vous est un incontournable du calendrier de la saison carnavalesque. \nPour votre mise en beauté\, simplifiez-vous la vie et faites-vous maquiller par la Team MakeUp Minute. Une équipe d’étudiantes et de passionnées de maquillage qui utilise des produits respectueux de la peau et ayant une bonne tenue. \n> La Team MakeUp Minute sera présente dès 7H\, face au Stade des Abymes\n——————————-\nVOTRE ACHAT COMPREND :\n> 1 Maquillage coloré dans l’ordre d’arrivée\n——————————- \nCOMMANDER
URL:https://www.laboutiqueducarnaval.com/evenement/maquillage-mas-maten/
LOCATION:Face au Stade des Abymes\, Stade des Abymes\, Les Abymes\, 97139\, Guadeloupe
CATEGORIES:Les Abymes,Mas Maten
ATTACH;FMTTYPE=image/jpeg:https://www.laboutiqueducarnaval.com/wp-content/uploads/2025/12/1.jpg
END:VEVENT
BEGIN:VEVENT
DTSTART;TZID=America/Guadeloupe:20260208T130000
DTEND;TZID=America/Guadeloupe:20260209T010000
DTSTAMP:20260420T030413
CREATED:20251204T203225Z
LAST-MODIFIED:20260116T003754Z
UID:58128-1770555600-1770598800@www.laboutiqueducarnaval.com
SUMMARY:Parade Bémao Mi Mas
DESCRIPTION:Organisée par le Comité de Carnaval de Baie-Mahault\, Bémao Mi Mas est un rendez-vous incontournable des îles de Guadeloupe ! Dimanche 8 Février 2026\, dès 13H\, plusieurs groupes vous offriront un show d’exception à vivre en famille\, en solo ou entre amis. Vin vwè richès a kannaval an nou !\n——————————-\n——————————- \n\nACHETEZ VITE VOS PASS ICI !
URL:https://www.laboutiqueducarnaval.com/evenement/bemaomimas/
LOCATION:Rue Eutrope Marian\, Guadeloupe
CATEGORIES:Baie-Mahault
ATTACH;FMTTYPE=image/jpeg:https://www.laboutiqueducarnaval.com/wp-content/uploads/2026/01/TICKET-EN-VENTE-SUR-LA-BOUTIQUE-DU-CARNAVAL-6.jpg
END:VEVENT
BEGIN:VEVENT
DTSTART;TZID=America/Guadeloupe:20260121T080000
DTEND;TZID=America/Guadeloupe:20260125T170000
DTSTAMP:20260420T030413
CREATED:20260116T002006Z
LAST-MODIFIED:20260116T002119Z
UID:59241-1768982400-1769360400@www.laboutiqueducarnaval.com
SUMMARY:GoziéVal
DESCRIPTION:GOZIÉVAL’26 revient avec une semaine intense\, festive et profondément ancrée dans l’identité carnavalesque du Gosier. \nLe Mercredi 21 janvier 2026\, de 14h à 16h30\, place à la 16e édition du Ti Goziéval\, le carnaval des enfants. Le cortège partira du Pôle administratif Edmond Sainsily pour rejoindre le stade de Montauban\, dans une ambiance placée sous le thème de l’énergie festive. À l’issue du défilé\, le Prince et la Princesse seront désignés et mis à l’honneur lors de la remise des prix\, prévue le vendredi 23 janvier à la Médiathèque Raoul Georges Nicolo. \nLe Jeudi 22 janvier 2026 à 19h30\, le Casino du Gosier\, à la Pointe de la Verdure\, accueillera une table ronde consacrée au thème « Le carnaval au rythme des tambours : identité et mémoire sonore ». Les échanges mettront en lumière le rôle central des tambours dans le carnaval guadeloupéen : leur histoire\, héritée des traditions africaines et créoles\, leur puissance fédératrice au sein des groupes\, leur créativité entre respect des codes et innovations\, ainsi que leur valeur symbolique comme instruments de liberté et de transmission entre générations. \nLe Vendredi 23 janvier 2026 à 19h\, la Médiathèque Raoul Georges Nicolo ouvrira ses portes pour le vernissage de l’exposition « Carnaval\, Tambour et Flamme »\, organisée en partenariat avec les associations CorpoArt’ et KMK. Le public pourra découvrir des tableaux et sculptures de Peggy\, de Ma maison en carton\, qui sublime la matière carton à travers ses œuvres\, ainsi qu’une exposition photographique de Monsieur Lima\, plongeant les visiteurs au cœur de l’univers du carnaval guadeloupéen\, entre couleurs\, rythmes et créativité. La soirée sera également marquée par la remise des prix du Prince et de la Princesse du Ti Goziéval\, par le Komité Gozié Kannaval. \nLe Samedi 24 janvier 2026\, la fête prendra toute son ampleur avec la parade carnavalesque nocturne et le déboulé des groupes à peaux dans les rues du bourg du Gosier. Le départ est prévu à 21h\, depuis le parking du stade\, pour un circuit traversant les grands axes du centre-ville jusqu’à l’arrivée au collège de Belle-Plaine. Le jury sera positionné face à la MDPH\, à l’entrée de Farraux\, pour apprécier toute l’énergie et la créativité des groupes.
URL:https://www.laboutiqueducarnaval.com/evenement/gozieval/
LOCATION:Ville de Gosier\, Guadeloupe
CATEGORIES:Gosier
ATTACH;FMTTYPE=image/jpeg:https://www.laboutiqueducarnaval.com/wp-content/uploads/2026/01/TICKET-EN-VENTE-SUR-LA-BOUTIQUE-DU-CARNAVAL-8.jpg
END:VEVENT
BEGIN:VEVENT
DTSTART;TZID=America/Guadeloupe:20260117T133000
DTEND;TZID=America/Guadeloupe:20260117T213000
DTSTAMP:20260420T030413
CREATED:20260115T234427Z
LAST-MODIFIED:20260116T003150Z
UID:59229-1768656600-1768685400@www.laboutiqueducarnaval.com
SUMMARY:Grand Prix Mas Tour – Saison Élite 2026
DESCRIPTION:Le Grand Prix Mas Tour – Saison Élite 2026 est officiellement lancé.Un tour rythmé par la performance\, la maîtrise et l’exigence du Mas. \n📍 Samedi 10 Janvier – dès 13hChez AKIYOZouti Kiltirèl Likibè Séjòw – Chauvel\, AbymesL \n📍 Samedi 17 Janvier – dès 13hChez Moun Ki MounLocal – Raizet \n\nQui peut participer?\n\n\nTout fouettard âgé de plus de 17 ans peut s’inscrire à la compétition (avec autorisation parentale préalable pour les mineurs). \nLes droits d’inscription s’élèvent à 45\,00€ par candidat. \n\nRetrouvez plus d’infos sur championnatdefouet.com
URL:https://www.laboutiqueducarnaval.com/evenement/grand-prix-mas-tour-saison-elite-2026/
LOCATION:Moun Ki Moun\, Le Raizet\, Guadeloupe
CATEGORIES:Les Abymes,Pointe-à-Pitre
ATTACH;FMTTYPE=image/jpeg:https://www.laboutiqueducarnaval.com/wp-content/uploads/2026/01/TICKET-EN-VENTE-SUR-LA-BOUTIQUE-DU-CARNAVAL-5.jpg
END:VEVENT
BEGIN:VEVENT
DTSTART;TZID=America/Guadeloupe:20260116T160000
DTEND;TZID=America/Guadeloupe:20260201T233000
DTSTAMP:20260420T030413
CREATED:20260116T001302Z
LAST-MODIFIED:20260116T142741Z
UID:59237-1768579200-1769988600@www.laboutiqueducarnaval.com
SUMMARY:Doubout pou on Gran Vidé
DESCRIPTION:Du 16 janvier au 1er février 2026\, vivez Doubout pou on Gran Vidé\, une programmation rythmée qui s’inscrit dans le calendrier du Carnaval 2026 aux Abymes\, autour du thème L’art de re-naître : recyclage et renaissance. \nOrganisé par KZAKK\, cet enchaînement de temps forts débute le vendredi 16 janvier à 19h avec le départ des groupes depuis le Centre des Ressources Associatives. Le tempo monte le mercredi 28 janvier à 20h avec le Déboulé Sportif à la ZAC de Dothémarre\, avant le Kout Tanbou\, prévu le vendredi 30 janvier à 21h à la MJC. \nMoment fort de transmission\, le défilé intergénérationnel investira le Bourg des Abymes le samedi 31 janvier à 14h\, avant la Grande parade finale\, le dimanche 1er février 2026 à 14h\, dans le Bourg des Abymes. \nCOMMANDE TES TICKETS ICI !
URL:https://www.laboutiqueducarnaval.com/evenement/doubout-pou-on-gran-vide/
LOCATION:Les Abymes\, Guadeloupe
CATEGORIES:FGC,Les Abymes
ATTACH;FMTTYPE=image/jpeg:https://www.laboutiqueducarnaval.com/wp-content/uploads/2026/01/TICKET-EN-VENTE-SUR-LA-BOUTIQUE-DU-CARNAVAL-7.jpg
END:VEVENT
BEGIN:VEVENT
DTSTART;TZID=America/Guadeloupe:20260116T080000
DTEND;TZID=America/Guadeloupe:20260118T233000
DTSTAMP:20260420T030413
CREATED:20260116T003411Z
LAST-MODIFIED:20260116T003619Z
UID:59249-1768550400-1768779000@www.laboutiqueducarnaval.com
SUMMARY:Kannaval Lima’ss
DESCRIPTION:🎭🔥 Kannaval Lima’ss 2026 s’installe à Sainte-Rose pour trois jours de vibrations carnavalesques\, entre traditions\, énergie collective et grand spectacle. \n🎶 Vendredi 16 janvier à 20h\, le carnaval s’ouvre en musique avec le concert Mas Po Ka\, un premier rendez-vous pour entrer pleinement dans l’ambiance.🥁 Samedi 17 janvier à 20h\, place au déboulé Gwoup a Po\, quand les rues résonnent au rythme des tambours et de la ferveur populaire.🎉 Dimanche 18 janvier à 15h\, le temps fort tant attendu : la grande parade\, avec ses groupes\, ses costumes et toute la magie du carnaval de Sainte-Rose. \n✨ Trois jours pour vibrer\, partager et célébrer le carnaval comme on l’aime.
URL:https://www.laboutiqueducarnaval.com/evenement/kannaval-limass/
LOCATION:Ville de Sainte-Rose
CATEGORIES:FCEDIG
ATTACH;FMTTYPE=image/jpeg:https://www.laboutiqueducarnaval.com/wp-content/uploads/2026/01/TICKET-EN-VENTE-SUR-LA-BOUTIQUE-DU-CARNAVAL-9.jpg
END:VEVENT
BEGIN:VEVENT
DTSTART;TZID=America/Guadeloupe:20260103T180000
DTEND;TZID=America/Guadeloupe:20260104T030000
DTSTAMP:20260420T030413
CREATED:20251229T201500Z
LAST-MODIFIED:20251231T190942Z
UID:58562-1767463200-1767495600@www.laboutiqueducarnaval.com
SUMMARY:MAS AN FOLI • MAS A WOBE • 5€
DESCRIPTION:Ce contenu est protégé
URL:https://www.laboutiqueducarnaval.com/evenement/masanfoliyominm/
LOCATION:Vélodrome Amédée Detraux\, Baie-Mahault\, Guadeloupe
CATEGORIES:Baie-Mahault,Soirées
END:VEVENT
BEGIN:VEVENT
DTSTART;TZID=America/Guadeloupe:20260103T180000
DTEND;TZID=America/Guadeloupe:20260104T030000
DTSTAMP:20260420T030413
CREATED:20251227T202502Z
LAST-MODIFIED:20251230T203835Z
UID:58533-1767463200-1767495600@www.laboutiqueducarnaval.com
SUMMARY:MAS AN FOLI • BAL LOV'MAS
DESCRIPTION:Samedi 3 Janvier 2026\,  la saison carnavalesque s’ouvre en grand avec le MAS AN FOLI ! Dès 19H\, retrouvez la Cérémonie incontournable qui lance officiellement le Carnaval des Îles de Guadeloupe. \n\n\n\nPour cette 7ᵉ édition\, vous êtes invités à vivre une soirée festive complète mêlant tradition\, musique\, danse et féérie. Au programme : \n\n\n\n\nPrésentation des Vavals\n\n\n\nShows majestueux des carnavaliers\n\n\n\nPrésentation des temps forts de la saison\n\n\n\n\nLa soirée se poursuit toute la nuit avec un bal au rythme du Groupe 440\, pour une immersion totale au cœur de la culture carnavalesque\, dans un cadre emblématique : le Vélodrome Amédée Détraux de Baie-Mahault. Une nuit pour entrer pleinement dans la saison du carnaval et vibrer ensemble jusqu’aux premières lueurs du jour.                     \n                                                    \n                                \n                                    \n                                                                                Billets\n                                                                                Prix\n                                                                                                                                Qté.\n                                                                                                                         \n                                    \n                                                                                \n                                                                                        PASS PARADE (19h – 21h)\n                                                                                        5€\n                                                                                                                                                            \n                        \n                                                                                                                                    Valider\n                                                                                        \n                                                                                        PASS SOIRÉE DANSANTE LOV’MAS\n                                                                                        12€\n                                                                                                                                                            \n                        \n                                                                                                                                    Valider\n                                                                                        \n                                                                                        PASS PARADE + SOIRÉE DANSANTE LOV’MAS\n                                                                                        15€\n                                                                                                                                                            \n                        \n                                                                                                                                    Valider\n                                                                                        \n                                                                                        PACK MAS A MIWA\n                                                                                        350€\n                                                                                                                                                            \n                        \n                                                                                                                                    Valider\n                                                                                        \n                                                                                        PACK MAS A RUBAN\n                                                                                        400€\n                                                                                                                                                            \n                        \n                                                                                                                                    Valider\n                                                                                        \n                                                                                        PACK MAS A KONN\n                                                                                        420€\n                                                                                                                                                            \n                        \n                                                                                                                                    Valider\n                                                                                        \n                                                                                        PACK MAS AN FOLI\n                                                                                        600€\n                                                                                                                                                            \n                        \n                                                                                                                                    Valider\n                                                                            \n                            \n                                            \n                    \n  \n \n \n_______________________________________\nQuelques précisions afin de choisir votre expérience au Mas An Foli\nPASS PARADE (19h – 21h) – 5 €\nAccès à la parade d’ouverture et au show des carnavaliers. Idéal pour profiter de l’ambiance carnavalesque\, découvrir les Vavals et vibrer au rythme des groupes. \n\nPASS SOIRÉE DANSANTE LOV’MAS (à partir de 21h) – 12 €\nAccès à la soirée dansante Lov’Mas. Parfait pour celles et ceux qui souhaitent rejoindre la fête après la parade et profiter pleinement du bal. \n\nPASS PARADE + SOIRÉE DANSANTE LOV’MAS – 15 €\nL’expérience complète de la soirée. Accès à la parade et à la soirée dansante Lov’Mas\, pour ne rien manquer de cet événement d’ouverture. \n\nLes Packs\, pour une expérience premium\nPACK MAS A MIWA – 350 €\nUne formule conviviale pensée pour les groupes. (6 entrées\, 3 rhums vieux ou 3 Mercier\, 10 softs\, 6 repas et Accès salon) \n\nPACK MAS A RUBAN – 400 €\nUn équilibre parfait entre confort et festivité. (6 entrées\, 4 Moët\, 6 repas et Accès salon) \n\nPACK MAS A KONN – 420 €\nUne expérience plus généreuse pour vivre la soirée sans compromis. (6 entrées\, 2 Veuve Clicquot ou 3 Mercier\, 2 rhums vieux\, 6 softs\, 6 repas et Accès salon) \n\nPACK MAS AN FOLI – 600 €\nLa formule prestige pour une soirée d’exception. (5 Moët\, 10 repas\, Accès salon et 2 places de parking privé)
URL:https://www.laboutiqueducarnaval.com/evenement/mas-an-foli-bal-lovmas/
LOCATION:Vélodrome Amédée Detraux\, Baie-Mahault\, Guadeloupe
CATEGORIES:Baie-Mahault,Soirées
ATTACH;FMTTYPE=image/jpeg:https://www.laboutiqueducarnaval.com/wp-content/uploads/2025/12/Mas-An-Foli-2026.jpg
END:VEVENT
END:VCALENDAR